Package: InteractionSet Version: 1.37.0 Command: /Library/Frameworks/R.framework/Resources/bin/R CMD build --keep-empty-dirs --no-resave-data InteractionSet StartedAt: 2025-07-16 16:40:08 -0400 (Wed, 16 Jul 2025) EndedAt: 2025-07-16 16:40:31 -0400 (Wed, 16 Jul 2025) EllapsedTime: 23.2 seconds RetCode: 0 Status: OK PackageFile: InteractionSet_1.37.0.tar.gz PackageFileSize: 391.1 KiB