Package: InteractionSet Version: 1.37.0 Command: rm -rf InteractionSet.buildbin-libdir && mkdir InteractionSet.buildbin-libdir && /Users/biocbuild/BBS/utils/build-universal.sh InteractionSet_1.37.0.tar.gz /Library/Frameworks/R.framework/Resources/bin/R InteractionSet.buildbin-libdir StartedAt: 2025-07-16 22:21:54 -0400 (Wed, 16 Jul 2025) EndedAt: 2025-07-16 22:22:12 -0400 (Wed, 16 Jul 2025) EllapsedTime: 17.3 seconds RetCode: 0 Status: OK PackageFile: InteractionSet_1.37.0.tgz PackageFileSize: 1.546 MiB