Package: InteractionSet Version: 1.37.0 Maintainer: Aaron Lun MaintainerEmail: infinite.monkeys.with.keyboards at gmail.com git_url: https://git.bioconductor.org/packages/InteractionSet git_branch: devel git_last_commit: 26967f9 git_last_commit_date: 2025-04-15 11:01:21 -0400 (Tue, 15 Apr 2025)