Package: InterCellar Version: 2.15.0 Command: F:\biocbuild\bbs-3.22-bioc\R\bin\R.exe CMD INSTALL InterCellar StartedAt: 2025-07-21 17:10:07 -0400 (Mon, 21 Jul 2025) EndedAt: 2025-07-21 17:11:23 -0400 (Mon, 21 Jul 2025) EllapsedTime: 76.0 seconds RetCode: 0 Status: OK