Package: InterCellar Version: 2.15.0 Command: F:\biocbuild\bbs-3.22-bioc\R\bin\R.exe CMD check --no-multiarch --install=check:InterCellar.install-out.txt --library=F:\biocbuild\bbs-3.22-bioc\R\library --no-vignettes --timings InterCellar_2.15.0.tar.gz StartedAt: 2025-07-22 03:17:55 -0400 (Tue, 22 Jul 2025) EndedAt: 2025-07-22 03:21:24 -0400 (Tue, 22 Jul 2025) EllapsedTime: 209.0 seconds RetCode: 0 Status: OK CheckDir: InterCellar.Rcheck Warnings: 0