Package: InterCellar Version: 2.15.0 Command: chmod a+r InterCellar -R && F:\biocbuild\bbs-3.22-bioc\R\bin\R.exe CMD build --keep-empty-dirs --no-resave-data InterCellar StartedAt: 2025-07-21 19:53:35 -0400 (Mon, 21 Jul 2025) EndedAt: 2025-07-21 19:54:43 -0400 (Mon, 21 Jul 2025) EllapsedTime: 67.7 seconds RetCode: 0 Status: OK PackageFile: InterCellar_2.15.0.tar.gz PackageFileSize: 4.016 MiB