Package: InterCellar Version: 2.15.0 Command: rm -rf InterCellar.buildbin-libdir && mkdir InterCellar.buildbin-libdir && F:\biocbuild\bbs-3.22-bioc\R\bin\R.exe CMD INSTALL --build --library=InterCellar.buildbin-libdir InterCellar_2.15.0.tar.gz StartedAt: 2025-07-22 09:21:19 -0400 (Tue, 22 Jul 2025) EndedAt: 2025-07-22 09:22:46 -0400 (Tue, 22 Jul 2025) EllapsedTime: 86.7 seconds RetCode: 0 Status: OK PackageFile: InterCellar_2.15.0.zip PackageFileSize: 3.165 MiB