Package: IntEREst Version: 1.33.0 Command: chmod a+r IntEREst -R && F:\biocbuild\bbs-3.22-bioc\R\bin\R.exe CMD build --keep-empty-dirs --no-resave-data IntEREst StartedAt: 2025-06-29 19:49:35 -0400 (Sun, 29 Jun 2025) EndedAt: 2025-06-29 19:51:55 -0400 (Sun, 29 Jun 2025) EllapsedTime: 139.8 seconds RetCode: 0 Status: OK PackageFile: IntEREst_1.33.0.tar.gz PackageFileSize: 1.311 MiB