Package: IntEREst Version: 1.33.0 Command: rm -rf IntEREst.buildbin-libdir && mkdir IntEREst.buildbin-libdir && F:\biocbuild\bbs-3.22-bioc\R\bin\R.exe CMD INSTALL --build --library=IntEREst.buildbin-libdir IntEREst_1.33.0.tar.gz StartedAt: 2025-06-30 08:59:07 -0400 (Mon, 30 Jun 2025) EndedAt: 2025-06-30 09:00:37 -0400 (Mon, 30 Jun 2025) EllapsedTime: 89.3 seconds RetCode: 0 Status: OK PackageFile: IntEREst_1.33.0.zip PackageFileSize: 1.782 MiB