Package: IntEREst Version: 1.33.0 Command: /Library/Frameworks/R.framework/Resources/bin/R CMD check --install=check:IntEREst.install-out.txt --library=/Library/Frameworks/R.framework/Resources/library --no-vignettes --timings IntEREst_1.33.0.tar.gz StartedAt: 2025-06-29 21:10:56 -0400 (Sun, 29 Jun 2025) EndedAt: 2025-06-29 21:17:44 -0400 (Sun, 29 Jun 2025) EllapsedTime: 407.9 seconds RetCode: 0 Status: OK CheckDir: IntEREst.Rcheck Warnings: 0