Package: Informeasure Version: 1.19.0 Command: /home/biocbuild/bbs-3.22-bioc/R/bin/R CMD build --keep-empty-dirs --no-resave-data --md5 Informeasure StartedAt: 2025-07-01 17:42:25 -0400 (Tue, 01 Jul 2025) EndedAt: 2025-07-01 17:42:37 -0400 (Tue, 01 Jul 2025) EllapsedTime: 12.0 seconds RetCode: 0 Status: OK PackageFile: Informeasure_1.19.0.tar.gz PackageFileSize: 277.4 KiB