Package: InTAD Version: 1.29.1 Command: /Library/Frameworks/R.framework/Resources/bin/R CMD INSTALL InTAD StartedAt: 2025-07-21 15:27:03 -0400 (Mon, 21 Jul 2025) EndedAt: 2025-07-21 15:27:52 -0400 (Mon, 21 Jul 2025) EllapsedTime: 49.0 seconds RetCode: 0 Status: OK