Package: InTAD Version: 1.29.1 Command: /Library/Frameworks/R.framework/Resources/bin/R CMD check --install=check:InTAD.install-out.txt --library=/Library/Frameworks/R.framework/Resources/library --no-vignettes --timings InTAD_1.29.1.tar.gz StartedAt: 2025-07-21 21:24:10 -0400 (Mon, 21 Jul 2025) EndedAt: 2025-07-21 21:29:49 -0400 (Mon, 21 Jul 2025) EllapsedTime: 339.0 seconds RetCode: 0 Status: OK CheckDir: InTAD.Rcheck Warnings: 0