Package: InTAD Version: 1.29.1 Command: /Library/Frameworks/R.framework/Resources/bin/R CMD build --keep-empty-dirs --no-resave-data InTAD StartedAt: 2025-07-21 17:11:45 -0400 (Mon, 21 Jul 2025) EndedAt: 2025-07-21 17:12:51 -0400 (Mon, 21 Jul 2025) EllapsedTime: 66.2 seconds RetCode: 0 Status: OK PackageFile: InTAD_1.29.1.tar.gz PackageFileSize: 1.213 MiB