Package: InTAD Version: 1.29.1 Command: rm -rf InTAD.buildbin-libdir && mkdir InTAD.buildbin-libdir && /Users/biocbuild/BBS/utils/build-universal.sh InTAD_1.29.1.tar.gz /Library/Frameworks/R.framework/Resources/bin/R InTAD.buildbin-libdir StartedAt: 2025-07-22 01:06:29 -0400 (Tue, 22 Jul 2025) EndedAt: 2025-07-22 01:07:26 -0400 (Tue, 22 Jul 2025) EllapsedTime: 56.2 seconds RetCode: 0 Status: OK PackageFile: InTAD_1.29.1.tgz PackageFileSize: 1.477 MiB