Package: InPAS Version: 2.17.0 Command: /home/biocbuild/R/R/bin/R CMD INSTALL InPAS StartedAt: 2025-07-14 21:06:23 -0000 (Mon, 14 Jul 2025) EndedAt: 2025-07-14 21:07:26 -0000 (Mon, 14 Jul 2025) EllapsedTime: 62.9 seconds RetCode: 0 Status: OK