Package: InPAS Version: 2.17.0 Command: /home/biocbuild/R/R/bin/R CMD build --keep-empty-dirs --no-resave-data InPAS StartedAt: 2025-07-15 00:24:26 -0000 (Tue, 15 Jul 2025) EndedAt: 2025-07-15 00:25:42 -0000 (Tue, 15 Jul 2025) EllapsedTime: 75.0 seconds RetCode: 1 Status: ERROR PackageFile: None PackageFileSize: NA