Package: InPAS Version: 2.17.0 Command: F:\biocbuild\bbs-3.22-bioc\R\bin\R.exe CMD INSTALL InPAS StartedAt: 2025-07-22 16:18:32 -0400 (Tue, 22 Jul 2025) EndedAt: 2025-07-22 16:19:50 -0400 (Tue, 22 Jul 2025) EllapsedTime: 77.9 seconds RetCode: 0 Status: OK