Package: InPAS Version: 2.17.0 Command: F:\biocbuild\bbs-3.22-bioc\R\bin\R.exe CMD check --no-multiarch --install=check:InPAS.install-out.txt --library=F:\biocbuild\bbs-3.22-bioc\R\library --no-vignettes --timings InPAS_2.17.0.tar.gz StartedAt: 2025-07-23 03:15:29 -0400 (Wed, 23 Jul 2025) EndedAt: 2025-07-23 03:23:24 -0400 (Wed, 23 Jul 2025) EllapsedTime: 475.4 seconds RetCode: 0 Status: WARNINGS CheckDir: InPAS.Rcheck Warnings: 1