Package: InPAS Version: 2.17.0 Command: chmod a+r InPAS -R && F:\biocbuild\bbs-3.22-bioc\R\bin\R.exe CMD build --keep-empty-dirs --no-resave-data InPAS StartedAt: 2025-07-22 19:49:50 -0400 (Tue, 22 Jul 2025) EndedAt: 2025-07-22 19:56:57 -0400 (Tue, 22 Jul 2025) EllapsedTime: 426.7 seconds RetCode: 0 Status: OK PackageFile: InPAS_2.17.0.tar.gz PackageFileSize: 1.316 MiB