Package: IgGeneUsage Version: 1.23.0 Command: /home/biocbuild/R/R/bin/R CMD build --keep-empty-dirs --no-resave-data IgGeneUsage StartedAt: 2025-07-15 00:21:15 -0000 (Tue, 15 Jul 2025) EndedAt: 2025-07-15 00:43:55 -0000 (Tue, 15 Jul 2025) EllapsedTime: 1359.7 seconds RetCode: 0 Status: OK PackageFile: IgGeneUsage_1.23.0.tar.gz PackageFileSize: 793.4 KiB