Package: IgGeneUsage Version: 1.23.0 Command: F:\biocbuild\bbs-3.22-bioc\R\bin\R.exe CMD INSTALL IgGeneUsage StartedAt: 2025-07-22 16:06:44 -0400 (Tue, 22 Jul 2025) EndedAt: 2025-07-22 16:23:51 -0400 (Tue, 22 Jul 2025) EllapsedTime: 1027.9 seconds RetCode: 0 Status: OK