Package: IgGeneUsage Version: 1.23.0 Command: /Library/Frameworks/R.framework/Resources/bin/R CMD build --keep-empty-dirs --no-resave-data IgGeneUsage StartedAt: 2025-07-07 16:36:28 -0400 (Mon, 07 Jul 2025) EndedAt: 2025-07-07 16:41:10 -0400 (Mon, 07 Jul 2025) EllapsedTime: 281.2 seconds RetCode: 0 Status: OK PackageFile: IgGeneUsage_1.23.0.tar.gz PackageFileSize: 1.208 MiB