Package: IdeoViz Version: 1.45.0 Command: /home/biocbuild/R/R/bin/R CMD check --install=check:IdeoViz.install-out.txt --library=/home/biocbuild/R/R/site-library --no-vignettes --timings IdeoViz_1.45.0.tar.gz StartedAt: 2025-07-15 08:34:36 -0000 (Tue, 15 Jul 2025) EndedAt: 2025-07-15 08:37:22 -0000 (Tue, 15 Jul 2025) EllapsedTime: 165.2 seconds RetCode: 0 Status: WARNINGS CheckDir: IdeoViz.Rcheck Warnings: 2