Package: IdeoViz Version: 1.45.0 Command: /home/biocbuild/R/R/bin/R CMD build --keep-empty-dirs --no-resave-data IdeoViz StartedAt: 2025-07-15 00:20:46 -0000 (Tue, 15 Jul 2025) EndedAt: 2025-07-15 00:20:47 -0000 (Tue, 15 Jul 2025) EllapsedTime: 1.0 seconds RetCode: 0 Status: OK PackageFile: IdeoViz_1.45.0.tar.gz PackageFileSize: 411.8 KiB