Package: IdeoViz Version: 1.45.0 Command: F:\biocbuild\bbs-3.22-bioc\R\bin\R.exe CMD INSTALL IdeoViz StartedAt: 2025-07-16 15:58:33 -0400 (Wed, 16 Jul 2025) EndedAt: 2025-07-16 15:59:10 -0400 (Wed, 16 Jul 2025) EllapsedTime: 36.9 seconds RetCode: 0 Status: OK