Package: IdeoViz Version: 1.45.0 Command: rm -rf IdeoViz.buildbin-libdir && mkdir IdeoViz.buildbin-libdir && F:\biocbuild\bbs-3.22-bioc\R\bin\R.exe CMD INSTALL --build --library=IdeoViz.buildbin-libdir IdeoViz_1.45.0.tar.gz StartedAt: 2025-07-17 09:11:03 -0400 (Thu, 17 Jul 2025) EndedAt: 2025-07-17 09:11:50 -0400 (Thu, 17 Jul 2025) EllapsedTime: 47.2 seconds RetCode: 0 Status: OK PackageFile: IdeoViz_1.45.0.zip PackageFileSize: 452.3 KiB