Package: IdeoViz Version: 1.45.0 Command: /home/biocbuild/bbs-3.22-bioc/R/bin/R CMD INSTALL IdeoViz StartedAt: 2025-07-07 15:29:12 -0400 (Mon, 07 Jul 2025) EndedAt: 2025-07-07 15:29:41 -0400 (Mon, 07 Jul 2025) EllapsedTime: 29.4 seconds RetCode: 0 Status: OK