Package: IdeoViz Version: 1.45.0 Command: /home/biocbuild/bbs-3.22-bioc/R/bin/R CMD build --keep-empty-dirs --no-resave-data --md5 IdeoViz StartedAt: 2025-07-07 17:41:18 -0400 (Mon, 07 Jul 2025) EndedAt: 2025-07-07 17:41:19 -0400 (Mon, 07 Jul 2025) EllapsedTime: 1.0 seconds RetCode: 0 Status: OK PackageFile: IdeoViz_1.45.0.tar.gz PackageFileSize: 413 KiB