Package: IdeoViz Version: 1.45.0 Command: /Library/Frameworks/R.framework/Resources/bin/R CMD INSTALL IdeoViz StartedAt: 2025-07-07 15:27:56 -0400 (Mon, 07 Jul 2025) EndedAt: 2025-07-07 15:28:36 -0400 (Mon, 07 Jul 2025) EllapsedTime: 40.2 seconds RetCode: 0 Status: OK