Package: IdeoViz Version: 1.45.0 Maintainer: Shraddha Pai MaintainerEmail: shraddha.pai at utoronto.ca git_url: https://git.bioconductor.org/packages/IdeoViz git_branch: devel git_last_commit: 54c2c2b git_last_commit_date: 2025-04-15 10:34:53 -0400 (Tue, 15 Apr 2025)