Package: Icens Version: 1.81.0 Command: /home/biocbuild/R/R/bin/R CMD INSTALL Icens StartedAt: 2025-07-14 20:23:42 -0000 (Mon, 14 Jul 2025) EndedAt: 2025-07-14 20:24:04 -0000 (Mon, 14 Jul 2025) EllapsedTime: 21.5 seconds RetCode: 0 Status: OK