Package: Icens Version: 1.81.0 Command: /home/biocbuild/R/R/bin/R CMD build --keep-empty-dirs --no-resave-data Icens StartedAt: 2025-07-15 00:19:57 -0000 (Tue, 15 Jul 2025) EndedAt: 2025-07-15 00:19:58 -0000 (Tue, 15 Jul 2025) EllapsedTime: 1.0 seconds RetCode: 0 Status: OK PackageFile: Icens_1.81.0.tar.gz PackageFileSize: 20.83 KiB