Package: IWTomics Version: 1.33.0 Command: rm -rf IWTomics.buildbin-libdir && mkdir IWTomics.buildbin-libdir && F:\biocbuild\bbs-3.22-bioc\R\bin\R.exe CMD INSTALL --build --library=IWTomics.buildbin-libdir IWTomics_1.33.0.tar.gz StartedAt: 2025-08-15 10:33:19 -0400 (Fri, 15 Aug 2025) EndedAt: 2025-08-15 10:34:21 -0400 (Fri, 15 Aug 2025) EllapsedTime: 62.7 seconds RetCode: 0 Status: OK PackageFile: IWTomics_1.33.0.zip PackageFileSize: 1.63 MiB