Package: IWTomics Version: 1.33.0 Command: /home/biocbuild/bbs-3.22-bioc/R/bin/R CMD check --install=check:IWTomics.install-out.txt --library=/home/biocbuild/bbs-3.22-bioc/R/site-library --timings IWTomics_1.33.0.tar.gz StartedAt: 2025-10-06 01:07:39 -0400 (Mon, 06 Oct 2025) EndedAt: 2025-10-06 01:12:15 -0400 (Mon, 06 Oct 2025) EllapsedTime: 275.3 seconds RetCode: 0 Status: WARNINGS CheckDir: IWTomics.Rcheck Warnings: 1