Package: IWTomics Version: 1.33.0 Command: /Library/Frameworks/R.framework/Resources/bin/R CMD check --install=check:IWTomics.install-out.txt --library=/Library/Frameworks/R.framework/Resources/library --no-vignettes --timings IWTomics_1.33.0.tar.gz StartedAt: 2025-10-05 20:09:53 -0400 (Sun, 05 Oct 2025) EndedAt: 2025-10-05 20:11:06 -0400 (Sun, 05 Oct 2025) EllapsedTime: 72.9 seconds RetCode: 0 Status: WARNINGS CheckDir: IWTomics.Rcheck Warnings: 1