Package: IVAS Version: 2.29.1 Command: /home/biocbuild/R/R/bin/R CMD build --keep-empty-dirs --no-resave-data IVAS StartedAt: 2025-07-25 01:30:03 -0000 (Fri, 25 Jul 2025) EndedAt: 2025-07-25 01:31:27 -0000 (Fri, 25 Jul 2025) EllapsedTime: 83.0 seconds RetCode: 0 Status: OK PackageFile: IVAS_2.29.1.tar.gz PackageFileSize: 248 KiB