Package: IVAS Version: 2.29.0 Command: /Library/Frameworks/R.framework/Resources/bin/R CMD INSTALL IVAS StartedAt: 2025-07-01 15:49:24 -0400 (Tue, 01 Jul 2025) EndedAt: 2025-07-01 15:50:18 -0400 (Tue, 01 Jul 2025) EllapsedTime: 53.7 seconds RetCode: 0 Status: OK