Package: IVAS Version: 2.29.0 Command: /Library/Frameworks/R.framework/Resources/bin/R CMD check --install=check:IVAS.install-out.txt --library=/Library/Frameworks/R.framework/Resources/library --no-vignettes --timings IVAS_2.29.0.tar.gz StartedAt: 2025-07-01 21:33:37 -0400 (Tue, 01 Jul 2025) EndedAt: 2025-07-01 21:39:21 -0400 (Tue, 01 Jul 2025) EllapsedTime: 343.9 seconds RetCode: 0 Status: WARNINGS CheckDir: IVAS.Rcheck Warnings: 2