Package: IVAS Version: 2.29.0 Command: /Library/Frameworks/R.framework/Resources/bin/R CMD build --keep-empty-dirs --no-resave-data IVAS StartedAt: 2025-07-01 17:26:28 -0400 (Tue, 01 Jul 2025) EndedAt: 2025-07-01 17:27:43 -0400 (Tue, 01 Jul 2025) EllapsedTime: 75.5 seconds RetCode: 0 Status: OK PackageFile: IVAS_2.29.0.tar.gz PackageFileSize: 251.2 KiB