Package: ISoLDE Version: 1.37.0 Command: /home/biocbuild/R/R/bin/R CMD INSTALL ISoLDE StartedAt: 2025-07-21 20:20:21 -0000 (Mon, 21 Jul 2025) EndedAt: 2025-07-21 20:20:32 -0000 (Mon, 21 Jul 2025) EllapsedTime: 11.1 seconds RetCode: 0 Status: OK