Package: ISoLDE Version: 1.37.0 Command: /home/biocbuild/R/R/bin/R CMD check --install=check:ISoLDE.install-out.txt --library=/home/biocbuild/R/R/site-library --no-vignettes --timings ISoLDE_1.37.0.tar.gz StartedAt: 2025-07-22 08:36:03 -0000 (Tue, 22 Jul 2025) EndedAt: 2025-07-22 08:37:20 -0000 (Tue, 22 Jul 2025) EllapsedTime: 77.1 seconds RetCode: 0 Status: WARNINGS CheckDir: ISoLDE.Rcheck Warnings: 1