Package: ISoLDE Version: 1.37.0 Command: F:\biocbuild\bbs-3.22-bioc\R\bin\R.exe CMD check --no-multiarch --install=check:ISoLDE.install-out.txt --library=F:\biocbuild\bbs-3.22-bioc\R\library --no-vignettes --timings ISoLDE_1.37.0.tar.gz StartedAt: 2025-07-12 03:11:03 -0400 (Sat, 12 Jul 2025) EndedAt: 2025-07-12 03:12:40 -0400 (Sat, 12 Jul 2025) EllapsedTime: 97.2 seconds RetCode: 0 Status: WARNINGS CheckDir: ISoLDE.Rcheck Warnings: 1