Package: ISLET Version: 1.11.0 Command: F:\biocbuild\bbs-3.22-bioc\R\bin\R.exe CMD INSTALL ISLET StartedAt: 2025-07-14 16:01:59 -0400 (Mon, 14 Jul 2025) EndedAt: 2025-07-14 16:02:35 -0400 (Mon, 14 Jul 2025) EllapsedTime: 36.0 seconds RetCode: 0 Status: OK