Package: ISLET Version: 1.11.0 Command: F:\biocbuild\bbs-3.22-bioc\R\bin\R.exe CMD check --no-multiarch --install=check:ISLET.install-out.txt --library=F:\biocbuild\bbs-3.22-bioc\R\library --no-vignettes --timings ISLET_1.11.0.tar.gz StartedAt: 2025-07-18 03:12:29 -0400 (Fri, 18 Jul 2025) EndedAt: 2025-07-18 03:28:33 -0400 (Fri, 18 Jul 2025) EllapsedTime: 963.3 seconds RetCode: 0 Status: OK CheckDir: ISLET.Rcheck Warnings: 0