Package: ISLET Version: 1.11.0 Command: rm -rf ISLET.buildbin-libdir && mkdir ISLET.buildbin-libdir && F:\biocbuild\bbs-3.22-bioc\R\bin\R.exe CMD INSTALL --build --library=ISLET.buildbin-libdir ISLET_1.11.0.tar.gz StartedAt: 2025-07-15 09:12:24 -0400 (Tue, 15 Jul 2025) EndedAt: 2025-07-15 09:13:00 -0400 (Tue, 15 Jul 2025) EllapsedTime: 36.4 seconds RetCode: 0 Status: OK PackageFile: ISLET_1.11.0.zip PackageFileSize: 1.526 MiB