Package: ISLET Version: 1.11.0 Command: /Library/Frameworks/R.framework/Resources/bin/R CMD INSTALL ISLET StartedAt: 2025-07-13 15:10:22 -0400 (Sun, 13 Jul 2025) EndedAt: 2025-07-13 15:10:33 -0400 (Sun, 13 Jul 2025) EllapsedTime: 10.7 seconds RetCode: 0 Status: OK