Package: ISLET Version: 1.11.0 Command: /Library/Frameworks/R.framework/Resources/bin/R CMD check --install=check:ISLET.install-out.txt --library=/Library/Frameworks/R.framework/Resources/library --no-vignettes --timings ISLET_1.11.0.tar.gz StartedAt: 2025-07-13 19:47:17 -0400 (Sun, 13 Jul 2025) EndedAt: 2025-07-13 19:50:29 -0400 (Sun, 13 Jul 2025) EllapsedTime: 192.5 seconds RetCode: 0 Status: OK CheckDir: ISLET.Rcheck Warnings: 0