Package: ISLET Version: 1.11.0 Command: /Library/Frameworks/R.framework/Resources/bin/R CMD build --keep-empty-dirs --no-resave-data ISLET StartedAt: 2025-07-13 16:41:32 -0400 (Sun, 13 Jul 2025) EndedAt: 2025-07-13 16:42:44 -0400 (Sun, 13 Jul 2025) EllapsedTime: 72.8 seconds RetCode: 0 Status: OK PackageFile: ISLET_1.11.0.tar.gz PackageFileSize: 2.185 MiB