Package: IRanges Version: 2.43.0 Command: /home/biocbuild/bbs-3.22-bioc/R/bin/R CMD build --keep-empty-dirs --no-resave-data --md5 IRanges StartedAt: 2025-07-11 17:42:16 -0400 (Fri, 11 Jul 2025) EndedAt: 2025-07-11 17:43:31 -0400 (Fri, 11 Jul 2025) EllapsedTime: 75.1 seconds RetCode: 0 Status: OK PackageFile: IRanges_2.43.0.tar.gz PackageFileSize: 477 KiB